BEGIN:VCALENDAR
VERSION:2.0
PRODID:-//hacksw/handcal//NONSGML v1.0//EN
BEGIN:VEVENT
SUMMARY:Fete du club 🥳 !
UID:e1d0badd-865b-4c43-97a0-652b9e51b398
DTSTART:20260630T161500Z
DTEND:20260630T174500Z
LOCATION:Localisation   
CATEGORIES:Festif
STATUS:
URL;VALUE=URI:https://www.asparun.com/evenements/2026/06/30/fete-du-club-2427731
END:VEVENT
END:VCALENDAR
