BEGIN:VCALENDAR
VERSION:2.0
PRODID:-//hacksw/handcal//NONSGML v1.0//EN
BEGIN:VEVENT
SUMMARY:Derniere seance de la saison, profitez bien de l'ete !
UID:80fe3e7d-8291-4da7-a396-bcdf559cbeb0
DTSTART:20260703T220000Z
DTEND:20260704T220000Z
LOCATION:Localisation   
CATEGORIES:Sportif
STATUS:
URL;VALUE=URI:https://www.asparun.com/evenements/2026/07/04/derniere-seance-de-la-saison-profitez-bien-de-lete-2427732
END:VEVENT
END:VCALENDAR
